BEGIN:VCALENDAR
VERSION:2.0
PRODID:-//Inman Mills Baptist Church - ECPv4.9.3.1//NONSGML v1.0//EN
CALSCALE:GREGORIAN
METHOD:PUBLISH
X-WR-CALNAME:Inman Mills Baptist Church
X-ORIGINAL-URL:http://inmanmillsbaptist.com
X-WR-CALDESC:Events for Inman Mills Baptist Church
BEGIN:VEVENT
DTSTART;TZID=America/New_York:20151025T163000
DTEND;TZID=America/New_York:20151025T163000
DTSTAMP:20260419T212717
CREATED:20151009T173135Z
LAST-MODIFIED:20151009T173135Z
UID:1368-1445790600-1445790600@inmanmillsbaptist.com
SUMMARY:Y 4 J Judgment House
DESCRIPTION:The youth will be leaving the church at 4:30 pm to go to The Judgment House. \n
URL:http://inmanmillsbaptist.com/event/y-4-j-judgment-house/
CATEGORIES:Events
END:VEVENT
END:VCALENDAR