BEGIN:VCALENDAR
VERSION:2.0
PRODID:-//Inman Mills Baptist Church - ECPv4.9.3.1//NONSGML v1.0//EN
CALSCALE:GREGORIAN
METHOD:PUBLISH
X-WR-CALNAME:Inman Mills Baptist Church
X-ORIGINAL-URL:http://inmanmillsbaptist.com
X-WR-CALDESC:Events for Inman Mills Baptist Church
BEGIN:VEVENT
DTSTART;VALUE=DATE:20160122
DTEND;VALUE=DATE:20160123
DTSTAMP:20260419T161539
CREATED:20150819T163150Z
LAST-MODIFIED:20150819T163150Z
UID:1313-1453420800-1453507199@inmanmillsbaptist.com
SUMMARY:Y 4 J Moonshine Mountain
DESCRIPTION:Our Youth For Jesus (Y 4 J) will be going to Moonshine Mountain on Friday\, January 22. \n
URL:http://inmanmillsbaptist.com/event/y-4-j-moonshine-mountain/
CATEGORIES:Events
END:VEVENT
END:VCALENDAR