BEGIN:VCALENDAR
VERSION:2.0
PRODID:-//Inman Mills Baptist Church - ECPv4.9.3.1//NONSGML v1.0//EN
CALSCALE:GREGORIAN
METHOD:PUBLISH
X-WR-CALNAME:Inman Mills Baptist Church
X-ORIGINAL-URL:http://inmanmillsbaptist.com
X-WR-CALDESC:Events for Inman Mills Baptist Church
BEGIN:VEVENT
DTSTART;VALUE=DATE:20151121
DTEND;VALUE=DATE:20151122
DTSTAMP:20260419T194904
CREATED:20150819T162539Z
LAST-MODIFIED:20150819T162539Z
UID:1311-1448064000-1448150399@inmanmillsbaptist.com
SUMMARY:Y 4 J Soup Kitchen
DESCRIPTION:Our Youth For Jesus (Y 4 J) will go to the Spartanburg Soup Kitchen on Saturday\, November 21. \n
URL:http://inmanmillsbaptist.com/event/y-4-j-soup-kitchen/
CATEGORIES:Events
END:VEVENT
END:VCALENDAR