BEGIN:VCALENDAR
VERSION:2.0
PRODID:-//Inman Mills Baptist Church - ECPv4.9.3.1//NONSGML v1.0//EN
CALSCALE:GREGORIAN
METHOD:PUBLISH
X-WR-CALNAME:Inman Mills Baptist Church
X-ORIGINAL-URL:http://inmanmillsbaptist.com
X-WR-CALDESC:Events for Inman Mills Baptist Church
BEGIN:VEVENT
DTSTART;TZID=America/New_York:20150116T080000
DTEND;TZID=America/New_York:20150116T170000
DTSTAMP:20260421T223139
CREATED:20150116T180402Z
LAST-MODIFIED:20150116T180402Z
UID:938-1421395200-1421427600@inmanmillsbaptist.com
SUMMARY:January 18 Sermon Topic
DESCRIPTION:Sunday morning will be Baptist Men’s Day. We look forward to this special service. The sermon topic for Sunday evening is “Dealing with Temptation” – Matthew 26:41; Romans 12:21. \n
URL:http://inmanmillsbaptist.com/event/january-18-sermon-topic/
END:VEVENT
BEGIN:VEVENT
DTSTART;TZID=America/New_York:20150116T080000
DTEND;TZID=America/New_York:20150116T170000
DTSTAMP:20260421T223139
CREATED:20150116T180710Z
LAST-MODIFIED:20150116T180710Z
UID:939-1421395200-1421427600@inmanmillsbaptist.com
SUMMARY:Mid-Winter Bible Conference
DESCRIPTION:“My House Shall Be a House of Prayer” Jesus Christ \nThe theme of this special study will be prayer. I need to correct the schedule for the beginning of our bible conference. I failed to remember the date of our Souper Sunday on February 1\, at 5:00 pm. I will begin the study with two Sunday morning messages on February 1 and February 8. Our evening studies will begin on February 8\, at 6:00 pm. Join us! Brother Jack \n
URL:http://inmanmillsbaptist.com/event/mid-winter-bible-conference/
END:VEVENT
BEGIN:VEVENT
DTSTART;TZID=America/New_York:20150116T080000
DTEND;TZID=America/New_York:20150116T170000
DTSTAMP:20260421T223139
CREATED:20150116T180922Z
LAST-MODIFIED:20150116T180922Z
UID:940-1421395200-1421427600@inmanmillsbaptist.com
SUMMARY:Church Wide Singspiration
DESCRIPTION:Winter weather got you feeling blue? Here’s something that will help! Next Sunday\, January 25\, at 6:00 pm\, we will have a church wide song service. This is an opportunity for our own church folks to sing or play an instrument for us. If you sing a solo\, duet or with a group\, it’s time to get your song together. Please let Travis know today that you will participate. \n
URL:http://inmanmillsbaptist.com/event/church-wide-singspiration/
END:VEVENT
BEGIN:VEVENT
DTSTART;TZID=America/New_York:20150116T080000
DTEND;TZID=America/New_York:20150116T170000
DTSTAMP:20260421T223139
CREATED:20150116T181436Z
LAST-MODIFIED:20150116T181436Z
UID:941-1421395200-1421427600@inmanmillsbaptist.com
SUMMARY:Souper Sunday
DESCRIPTION:We will have our Souper Sunday on February 1\, at 5:00 pm in the fellowship hall. We will need soups\, cornbread\, crackers\, drinks and desserts for everyone to enjoy. Please sign up in the church office if you will help. Everyone is asked to bring canned goods for our church food pantry to help feed the less fortunate in our area. Thank you for making this fellowship a success! \n
URL:http://inmanmillsbaptist.com/event/souper-sunday/
END:VEVENT
BEGIN:VEVENT
DTSTART;TZID=America/New_York:20150116T080000
DTEND;TZID=America/New_York:20150116T170000
DTSTAMP:20260421T223139
CREATED:20150116T183330Z
LAST-MODIFIED:20150116T183330Z
UID:942-1421395200-1421427600@inmanmillsbaptist.com
SUMMARY:Baby Bottle Boomerang
DESCRIPTION:During the next few weeks\, we are sponsoring the Baby Bottle Boomerang for the Carolina Pregnancy Center. If you received a bottle last Sunday\, please fill it with change\, or you may include a check made payable to the Carolina Pregnancy Center\, and return it by Sunday\, February 1. Thank you for your support! \n
URL:http://inmanmillsbaptist.com/event/baby-bottle-boomerang/
END:VEVENT
BEGIN:VEVENT
DTSTART;TZID=America/New_York:20150116T080000
DTEND;TZID=America/New_York:20150116T170000
DTSTAMP:20260421T223139
CREATED:20150116T183502Z
LAST-MODIFIED:20150116T183502Z
UID:943-1421395200-1421427600@inmanmillsbaptist.com
SUMMARY:Spirit Night
DESCRIPTION:The Nicaragua Mission Team will sponsor a Bojangles Spirit Night on Tuesday\, January 27\, from 5:00 – 8:00 pm in Inman. The mission fund will receive fifteen percent of sales! Leave the kitchen and enjoy some chicken! \n
URL:http://inmanmillsbaptist.com/event/spirit-night/
END:VEVENT
BEGIN:VEVENT
DTSTART;TZID=America/New_York:20150116T080000
DTEND;TZID=America/New_York:20150116T170000
DTSTAMP:20260421T223139
CREATED:20150116T183744Z
LAST-MODIFIED:20150116T183744Z
UID:944-1421395200-1421427600@inmanmillsbaptist.com
SUMMARY:Outreach Opportunity
DESCRIPTION:Our church has the awesome opportunity to share Christ at Mabry Middle School on Wednesday morning at 7:15 am with 50 FCA students. Travis will be speaking and your help is needed. If you would like to give money to purchase biscuits and orange juice or help serve the food\, please see Travis today. It will cost approximately $150.00 to feed the group. Thanks for your help in reaching out to others to show and share the Good News! \n
URL:http://inmanmillsbaptist.com/event/outreach-opportunity/
END:VEVENT
BEGIN:VEVENT
DTSTART;TZID=America/New_York:20150116T080000
DTEND;TZID=America/New_York:20150116T170000
DTSTAMP:20260421T223139
CREATED:20150116T183923Z
LAST-MODIFIED:20150116T183923Z
UID:945-1421395200-1421427600@inmanmillsbaptist.com
SUMMARY:15th Anniversary
DESCRIPTION:On Sunday\, January 25\, we will honor Rev. & Mrs. Jack Hames as we celebrate their 15th anniversary of service to our church. We look forward to this special day! \n
URL:http://inmanmillsbaptist.com/event/15th-anniversary/
END:VEVENT
END:VCALENDAR