BEGIN:VCALENDAR
VERSION:2.0
PRODID:-//Inman Mills Baptist Church - ECPv4.9.3.1//NONSGML v1.0//EN
CALSCALE:GREGORIAN
METHOD:PUBLISH
X-WR-CALNAME:Inman Mills Baptist Church
X-ORIGINAL-URL:http://inmanmillsbaptist.com
X-WR-CALDESC:Events for Inman Mills Baptist Church
BEGIN:VEVENT
DTSTART;TZID=America/New_York:20150522T080000
DTEND;TZID=America/New_York:20150522T170000
DTSTAMP:20260421T160601
CREATED:20150522T200749Z
LAST-MODIFIED:20150522T200749Z
UID:1164-1432281600-1432314000@inmanmillsbaptist.com
SUMMARY:May 24th Sermon Topics
DESCRIPTION:The AM sermon topic is “Blessed Assurance” – 1 John 5:9-13 and the PM topic is “The Church – His Body” – Colossians 1:18. \n
URL:http://inmanmillsbaptist.com/event/may-24th-sermon-topics/
END:VEVENT
BEGIN:VEVENT
DTSTART;TZID=America/New_York:20150522T080000
DTEND;TZID=America/New_York:20150522T170000
DTSTAMP:20260421T160601
CREATED:20150522T200945Z
LAST-MODIFIED:20150522T200945Z
UID:1165-1432281600-1432314000@inmanmillsbaptist.com
SUMMARY:Prison Ministry
DESCRIPTION:The prison ministry team will have their next visit to the prison on Friday\, May 29\, at 6:45 pm. We will meet for a time of prayer on Tuesday\, May 26\, at 7:00 pm. Please pray as the team ministers to these men. \n
URL:http://inmanmillsbaptist.com/event/prison-ministry/
END:VEVENT
BEGIN:VEVENT
DTSTART;TZID=America/New_York:20150522T080000
DTEND;TZID=America/New_York:20150522T170000
DTSTAMP:20260421T160601
CREATED:20150522T201039Z
LAST-MODIFIED:20150522T201039Z
UID:1166-1432281600-1432314000@inmanmillsbaptist.com
SUMMARY:CHURCHWIDE PRAYERTIME
DESCRIPTION:Sunday May 24th at 5:15 pm\, we continue our series of prayer times\, praying for the church from Top to Bottom. This week\, we will pray for our Church Fellowship and will meet in the fellowship area for a specific time of quiet prayer. Join us and be a part of this call to prayer. \n
URL:http://inmanmillsbaptist.com/event/churchwide-prayertime/
END:VEVENT
BEGIN:VEVENT
DTSTART;TZID=America/New_York:20150522T173000
DTEND;TZID=America/New_York:20150522T220000
DTSTAMP:20260421T160601
CREATED:20150508T191201Z
LAST-MODIFIED:20150508T191201Z
UID:1156-1432315800-1432332000@inmanmillsbaptist.com
SUMMARY:Sky Zone
DESCRIPTION:5:30 pm \n
URL:http://inmanmillsbaptist.com/event/sky-zone/
END:VEVENT
END:VCALENDAR