BEGIN:VCALENDAR
VERSION:2.0
PRODID:-//Inman Mills Baptist Church - ECPv4.9.3.1//NONSGML v1.0//EN
CALSCALE:GREGORIAN
METHOD:PUBLISH
X-WR-CALNAME:Inman Mills Baptist Church
X-ORIGINAL-URL:http://inmanmillsbaptist.com
X-WR-CALDESC:Events for Inman Mills Baptist Church
BEGIN:VEVENT
DTSTART;TZID=America/New_York:20161209T080000
DTEND;TZID=America/New_York:20161209T170000
DTSTAMP:20260420T123535
CREATED:20161209T183528Z
LAST-MODIFIED:20161209T183528Z
UID:2111-1481270400-1481302800@inmanmillsbaptist.com
SUMMARY:Y 4 J Parents
DESCRIPTION:If your child has paid their deposit and is planning to go to Big God\, we will have a brief meeting in the fellowship hall on Sunday\, December 11 following the morning worship service. \n
URL:http://inmanmillsbaptist.com/event/y-4-j-parents/
END:VEVENT
BEGIN:VEVENT
DTSTART;TZID=America/New_York:20161209T080000
DTEND;TZID=America/New_York:20161209T170000
DTSTAMP:20260420T123535
CREATED:20161209T183714Z
LAST-MODIFIED:20161209T183714Z
UID:2112-1481270400-1481302800@inmanmillsbaptist.com
SUMMARY:Prayer & Coffee
DESCRIPTION:Join us for a time of prayer on Monday\, December 12\, at 8:00 am in the fellowship hall. Begin your day with prayer and encouragement! \n
URL:http://inmanmillsbaptist.com/event/prayer-coffee-4/
END:VEVENT
BEGIN:VEVENT
DTSTART;TZID=America/New_York:20161209T080000
DTEND;TZID=America/New_York:20161209T170000
DTSTAMP:20260420T123535
CREATED:20161209T184036Z
LAST-MODIFIED:20161209T184036Z
UID:2113-1481270400-1481302800@inmanmillsbaptist.com
SUMMARY:Mission Trip
DESCRIPTION:There will be a brief informational meeting in the chapel on Sunday\, December 18 about the 2017 Nicaragua Mission Trip following the morning service. \n
URL:http://inmanmillsbaptist.com/event/mission-trip/
END:VEVENT
BEGIN:VEVENT
DTSTART;TZID=America/New_York:20161209T080000
DTEND;TZID=America/New_York:20161209T170000
DTSTAMP:20260420T123535
CREATED:20161209T184313Z
LAST-MODIFIED:20161209T184313Z
UID:2114-1481270400-1481302800@inmanmillsbaptist.com
SUMMARY:Mabry Middle School FCA
DESCRIPTION:When: Wednesday\, December 14 \nWhere: MMS Cafeteria \nTime: 7:15 am \nIf you would like to help share Jesus with our students\, please let Travis know today. \n
URL:http://inmanmillsbaptist.com/event/mabry-middle-school-fca/
END:VEVENT
BEGIN:VEVENT
DTSTART;TZID=America/New_York:20161209T080000
DTEND;TZID=America/New_York:20161209T170000
DTSTAMP:20260420T123535
CREATED:20161209T185152Z
LAST-MODIFIED:20161209T185152Z
UID:2115-1481270400-1481302800@inmanmillsbaptist.com
SUMMARY:Christmas Schedule
DESCRIPTION:\nSunday\, December 18\n\n11:00 am    The adult choir will present “Come Let Us Adore” \n 5:00 pm     Church wide Christmas caroling following by WMU sponsored Soup Supper \n\nWednesday\, December 21\n\n6:45 pm Candles\, Carols & Scripture Service in the chapel \nBirthday Party for Jesus for children in the fellowship hall. \n\nSunday\, December 25\n\n10:30 am Rev. Hames will read to the children\, and he will bring a special Christmas message. We will not have Sunday school or an evening service on Christmas Day. \n
URL:http://inmanmillsbaptist.com/event/christmas-schedule/
END:VEVENT
BEGIN:VEVENT
DTSTART;TZID=America/New_York:20161209T080000
DTEND;TZID=America/New_York:20161209T170000
DTSTAMP:20260420T123535
CREATED:20161209T185507Z
LAST-MODIFIED:20161209T185507Z
UID:2116-1481270400-1481302800@inmanmillsbaptist.com
SUMMARY:December 11 Sermon Topics
DESCRIPTION:Morning Worship Service – “Avoiding a Spiritual Disaster” – 1 Samuel 9:14-17\, 15:22-26 \nEvening Worship Service – “A Growing Christian” – 1 Corinthians 3:1-3 \n
URL:http://inmanmillsbaptist.com/event/december-11-sermon-topics/
END:VEVENT
END:VCALENDAR