BEGIN:VCALENDAR
VERSION:2.0
PRODID:-//Inman Mills Baptist Church - ECPv4.9.3.1//NONSGML v1.0//EN
CALSCALE:GREGORIAN
METHOD:PUBLISH
X-WR-CALNAME:Inman Mills Baptist Church
X-ORIGINAL-URL:http://inmanmillsbaptist.com
X-WR-CALDESC:Events for Inman Mills Baptist Church
BEGIN:VEVENT
DTSTART;VALUE=DATE:20161211
DTEND;VALUE=DATE:20161212
DTSTAMP:20260422T121015
CREATED:20161125T173429Z
LAST-MODIFIED:20161125T173429Z
UID:2094-1481414400-1481500799@inmanmillsbaptist.com
SUMMARY:Christmas Angel Gifts Due
DESCRIPTION:The WMU Georgia Belles is once again sponsoring the Christmas Angel Program. Please remember if you adopted an angel\, all gifts need to be wrapped and labeled with the child’s name on each package and brought to the parlor no later than Sunday\, December 11. Thank you for your generosity! \n
URL:http://inmanmillsbaptist.com/event/christmas-angel-gifts-due/
CATEGORIES:Events
END:VEVENT
END:VCALENDAR