BEGIN:VCALENDAR
VERSION:2.0
PRODID:-//Inman Mills Baptist Church - ECPv4.9.3.1//NONSGML v1.0//EN
CALSCALE:GREGORIAN
METHOD:PUBLISH
X-WR-CALNAME:Inman Mills Baptist Church
X-ORIGINAL-URL:http://inmanmillsbaptist.com
X-WR-CALDESC:Events for Inman Mills Baptist Church
BEGIN:VEVENT
DTSTART;VALUE=DATE:20170117
DTEND;VALUE=DATE:20170118
DTSTAMP:20260424T211641
CREATED:20170113T170437Z
LAST-MODIFIED:20170113T170437Z
UID:2162-1484611200-1484697599@inmanmillsbaptist.com
SUMMARY:Bojangles Fundraiser
DESCRIPTION:5:00 – 8:00 pm Fundraiser for Released Time Ministry. Portion of sales will be given to this ministry. \n
URL:http://inmanmillsbaptist.com/event/bojangles-fundraiser/
CATEGORIES:Events
END:VEVENT
END:VCALENDAR