BEGIN:VCALENDAR
VERSION:2.0
PRODID:-//Inman Mills Baptist Church - ECPv4.9.3.1//NONSGML v1.0//EN
CALSCALE:GREGORIAN
METHOD:PUBLISH
X-WR-CALNAME:Inman Mills Baptist Church
X-ORIGINAL-URL:http://inmanmillsbaptist.com
X-WR-CALDESC:Events for Inman Mills Baptist Church
BEGIN:VEVENT
DTSTART;VALUE=DATE:20170122
DTEND;VALUE=DATE:20170123
DTSTAMP:20260425T033335
CREATED:20170113T170235Z
LAST-MODIFIED:20170113T170235Z
UID:2161-1485043200-1485129599@inmanmillsbaptist.com
SUMMARY:Baptist Men's Day
DESCRIPTION:11:00 am Guest speaker will be Coach Mark Hodge \n
URL:http://inmanmillsbaptist.com/event/baptist-mens-day-2/
CATEGORIES:Events
END:VEVENT
END:VCALENDAR