BEGIN:VCALENDAR
VERSION:2.0
PRODID:-//Inman Mills Baptist Church - ECPv4.9.3.1//NONSGML v1.0//EN
CALSCALE:GREGORIAN
METHOD:PUBLISH
X-WR-CALNAME:Inman Mills Baptist Church
X-ORIGINAL-URL:http://inmanmillsbaptist.com
X-WR-CALDESC:Events for Inman Mills Baptist Church
BEGIN:VEVENT
DTSTART;VALUE=DATE:20170131
DTEND;VALUE=DATE:20170201
DTSTAMP:20260425T151302
CREATED:20170128T155629Z
LAST-MODIFIED:20170128T155629Z
UID:2200-1485820800-1485907199@inmanmillsbaptist.com
SUMMARY:Prison Ministry
DESCRIPTION:Orientation in the chapel at 7:00 pm for those current men and any other man who would be interested in participating. \n
URL:http://inmanmillsbaptist.com/event/prison-ministry-3/
CATEGORIES:Events
END:VEVENT
END:VCALENDAR