BEGIN:VCALENDAR
VERSION:2.0
PRODID:-//Inman Mills Baptist Church - ECPv4.9.3.1//NONSGML v1.0//EN
CALSCALE:GREGORIAN
METHOD:PUBLISH
X-WR-CALNAME:Inman Mills Baptist Church
X-ORIGINAL-URL:http://inmanmillsbaptist.com
X-WR-CALDESC:Events for Inman Mills Baptist Church
BEGIN:VEVENT
DTSTART;VALUE=DATE:20170206
DTEND;VALUE=DATE:20170207
DTSTAMP:20260425T231232
CREATED:20170128T160221Z
LAST-MODIFIED:20170128T160221Z
UID:2202-1486339200-1486425599@inmanmillsbaptist.com
SUMMARY:WMU Georgia Belles
DESCRIPTION:All ladies are invited to attend this time of mission planning and fellowship at 6:30 pm. \n
URL:http://inmanmillsbaptist.com/event/wmu-georgia-belles-2/
CATEGORIES:Events
END:VEVENT
END:VCALENDAR