BEGIN:VCALENDAR
VERSION:2.0
PRODID:-//Inman Mills Baptist Church - ECPv4.9.3.1//NONSGML v1.0//EN
CALSCALE:GREGORIAN
METHOD:PUBLISH
X-WR-CALNAME:Inman Mills Baptist Church
X-ORIGINAL-URL:http://inmanmillsbaptist.com
X-WR-CALDESC:Events for Inman Mills Baptist Church
BEGIN:VEVENT
DTSTART;VALUE=DATE:20170208
DTEND;VALUE=DATE:20170209
DTSTAMP:20260426T013445
CREATED:20170128T153833Z
LAST-MODIFIED:20170128T154955Z
UID:2196-1486512000-1486598399@inmanmillsbaptist.com
SUMMARY:Y 4 J Pursuit: Chasing What Matters
DESCRIPTION:Boiling Springs First Baptist Church – we leave our church at 4:45 pm. \n
URL:http://inmanmillsbaptist.com/event/pursuit-chasing-what-matters/
CATEGORIES:Events
END:VEVENT
END:VCALENDAR